BEGIN:VCALENDAR
VERSION:2.0
PRODID:Events Booking
BEGIN:VEVENT
UID:69e9bcb3af11e
SUMMARY:3-Day Expressive Painting Workshop with Dmitri Wright
DESCRIPTION:View the Supply List HERE
 Join Master Impressionist Dmitri Wr
 ight for a three-day workshop exploring the expressive evolution of Impres
 sionist painting\, from observation to personal vision. Through plein air 
 practice and artist journaling\, participants will deepen creative insight
  and expand their artistic voice. Open to all skill levels.
LOCATION:323 Franklin Road\, Highlands\, NC 28741
DTSTART:20260722T140000Z
DTEND:20260724T200000Z
DTSTAMP:20250628T184219Z
ORGANIZER;CN=The Bascom:MAILTO:info@thebascom.org
GEO:35.05781;-83.204179
X-APPLE-STRUCTURED-LOCATION;VALUE=URI;X-ADDRESS=323 Franklin Road\, Highlan
 ds\, NC 28741;X-APPLE-RADIUS=72;X-TITLE=The Bascom: Adult Studio B (Trail 
 Level):35.05781;-83.204179
END:VEVENT
END:VCALENDAR