BEGIN:VCALENDAR
VERSION:2.0
PRODID:Events Booking
BEGIN:VEVENT
UID:69e9cb1ebe9f7
SUMMARY:Intro to Watercolor III: Practicing Skills
DESCRIPTION:Expand your watercolor confidence in this hands-on workshop des
 igned for adults with beginner-level experience. Guided by your experience
 d instructor\, Caryn Raming\, you'll use your foundational knowledge of st
 rokes and washes to create watercolor paintings. This session is perfect i
 f you've painted in watercolor before and are ready to strengthen your tec
 hnique through practice and guidance.
 All materials will be provided—j
 ust bring your favorite brushes\, paints\, or tools\, and a willingness to
  learn. Come ready to paint\, explore\, and grow your skills in a supporti
 ve\, creative environment.
LOCATION:323 Franklin Road\, Highlands\, NC 28741
DTSTART:20260530T180000Z
DTEND:20260530T200000Z
DTSTAMP:20260122T005605Z
ORGANIZER;CN=The Bascom:MAILTO:info@thebascom.org
GEO:35.05781;-83.204179
X-APPLE-STRUCTURED-LOCATION;VALUE=URI;X-ADDRESS=323 Franklin Road\, Highlan
 ds\, NC 28741;X-APPLE-RADIUS=72;X-TITLE=The Bascom: Hughes Children's Stud
 io (Trail Level):35.05781;-83.204179
END:VEVENT
END:VCALENDAR