BEGIN:VCALENDAR
VERSION:2.0
PRODID:Events Booking
BEGIN:VEVENT
UID:69e9ddab76864
SUMMARY:Bowl with Lid and Finial Workshop with Pat Carroll
DESCRIPTION:This hands-on workshop introduces students to the process of cr
 eating a turned bowl with a fitted lid and decorative finial. The class be
 gins with an overview of the studio\, tools\, and safe lathe practices\, t
 hen moves into preparing and mounting wood and understanding grain directi
 on. Throughout the workshop\, emphasis is placed on good technique\, thoug
 htful design\, and achieving clean\, well-proportioned forms.
 Students w
 ill work through shaping\, sanding\, and finishing each element of the pie
 ce while building confidence and refining their skills. The class conclude
 s with finishing options such as coloring or surface treatments\, followed
  by a group discussion of the completed work and the ideas behind each pie
 ce.
 This workshop is suitable for both beginners or those who have some 
 experience woodturning\, but are looking to deepen their knowledge and lea
 rn new techniques.
LOCATION:323 Franklin Road\, Highlands\, NC 28741
DTSTART:20261007T130000Z
DTEND:20261009T200000Z
DTSTAMP:20251223T194054Z
ORGANIZER;CN=The Bascom:MAILTO:info@thebascom.org
GEO:35.05781;-83.204179
X-APPLE-STRUCTURED-LOCATION;VALUE=URI;X-ADDRESS=323 Franklin Road\, Highlan
 ds\, NC 28741;X-APPLE-RADIUS=72;X-TITLE=The Bascom: Adult Studio B (Trail 
 Level):35.05781;-83.204179
END:VEVENT
END:VCALENDAR