BEGIN:VCALENDAR
VERSION:2.0
PRODID:Events Booking
BEGIN:VEVENT
UID:69e9bbc60594e
SUMMARY:Resident Artist Series: Molds for Clay
DESCRIPTION:In this 3 day mold making class\, we will explore and create di
 fferent types of clay molds and texture molds.&nbsp\; The focus will be on
  making the molds and testing the molds for accuracy and ability to use in
  your studio practice.&nbsp\; &nbsp\;This class includes Open Studio only 
 on the day of class.&nbsp\; There is no glazing component to this class.&n
 bsp\;
LOCATION:323 Franklin Road\, Highlands\, NC 28741 
DTSTART:20260513T140000Z
DTEND:20260515T160000Z
DTSTAMP:20251222T230920Z
ORGANIZER;CN=The Bascom:MAILTO:info@thebascom.org
GEO:35.05781;-83.204179
X-APPLE-STRUCTURED-LOCATION;VALUE=URI;X-ADDRESS=323 Franklin Road\, Highlan
 ds\, NC 28741 ;X-APPLE-RADIUS=72;X-TITLE=Dave Drake Barn:35.05781;-83.2041
 79
END:VEVENT
END:VCALENDAR