BEGIN:VCALENDAR
VERSION:2.0
PRODID:Events Booking
BEGIN:VEVENT
UID:69e9ba8665ffb
SUMMARY:Kids Clay Camp - Handbuilding Camp
DESCRIPTION:Try out different methods of handbuilding pottery. In this thre
 e-day workshop we will explore using clay to create functional and decorat
 ive ceramics. Student work will be finished in a variety of ways\, includi
 ng underglaze and glaze\, and will be fired after the class and available 
 for pickup or shipping two to three weeks after the last class.
 Ages:
 
 6-18
LOCATION:323 Franklin Road\, Highlands\, NC 28741 
DTSTART:20260615T180000Z
DTEND:20260617T200000Z
DTSTAMP:20251218T020313Z
ORGANIZER;CN=The Bascom:MAILTO:info@thebascom.org
GEO:35.05781;-83.204179
X-APPLE-STRUCTURED-LOCATION;VALUE=URI;X-ADDRESS=323 Franklin Road\, Highlan
 ds\, NC 28741 ;X-APPLE-RADIUS=72;X-TITLE=The Studio Covered Terrace:35.057
 81;-83.204179
END:VEVENT
END:VCALENDAR