BEGIN:VCALENDAR
VERSION:2.0
PRODID:Events Booking
BEGIN:VEVENT
UID:69e9ba8847db8
SUMMARY:All Ages Pottery: Slab Pottery Pumpkins
DESCRIPTION:Use the slab roller to make a clay pumpkin to keep and some tin
 y ones to share for our Annual Pumpkin Scavenger Hunt. Work will be availa
 ble for pickup or shipping two to three weeks after class.
 Suitable for 
 ages 6 and up.&nbsp\;
LOCATION:323 Franklin Road\, Highlands\, NC 28741 
DTSTART:20260912T140000Z
DTEND:20260912T160000Z
DTSTAMP:20251217T215843Z
ORGANIZER;CN=The Bascom:MAILTO:info@thebascom.org
GEO:35.05781;-83.204179
X-APPLE-STRUCTURED-LOCATION;VALUE=URI;X-ADDRESS=323 Franklin Road\, Highlan
 ds\, NC 28741 ;X-APPLE-RADIUS=72;X-TITLE=The Studio Covered Terrace:35.057
 81;-83.204179
END:VEVENT
END:VCALENDAR