BEGIN:VCALENDAR
VERSION:2.0
PRODID:Events Booking
BEGIN:VEVENT
UID:69e9cabe455b3
SUMMARY:All Ages Pottery: Ornaments
DESCRIPTION:Come make a variety of personalized ornaments to keep or share 
 with family and friends.&nbsp\;Work will be available for pickup or shippi
 ng two to three weeks after class.
 Suitable for ages 6 and up.
LOCATION:323 Franklin Road\, Highlands\, NC 28741 
DTSTART:20261212T150000Z
DTEND:20261212T170000Z
DTSTAMP:20251217T202259Z
ORGANIZER;CN=The Bascom:MAILTO:info@thebascom.org
GEO:35.05781;-83.204179
X-APPLE-STRUCTURED-LOCATION;VALUE=URI;X-ADDRESS=323 Franklin Road\, Highlan
 ds\, NC 28741 ;X-APPLE-RADIUS=72;X-TITLE=Dave Drake Barn:35.05781;-83.2041
 79
END:VEVENT
END:VCALENDAR