BEGIN:VCALENDAR
VERSION:2.0
PRODID:Events Booking
BEGIN:VEVENT
UID:69e9ca7116966
SUMMARY:Finding Your Voice Through Altered Ceramic Forms with Judy Brater
DESCRIPTION:This hands-on workshop begins with a simple bowl or cone form. 
 Students will explore techniques to alter the shape and surface. By creati
 ng free - form pieces\, we will refine the shapes with sculptural embellis
 hments. This class is designed to expand each student’s decorative skill
 s while having fun at the same time. Students should bring their creative 
 energy\, and their favorite carving and texturing tools. The instructor wi
 ll provide a variety of hump molds and cones to begin our project and fini
 sh with interesting and exciting pieces that reflect each student’s pers
 onality.
LOCATION:323 Franklin Road\, Highlands\, NC 28741 
DTSTART:20261020T130000Z
DTEND:20261022T200000Z
DTSTAMP:20260228T143126Z
ORGANIZER;CN=The Bascom:MAILTO:info@thebascom.org
GEO:35.05781;-83.204179
X-APPLE-STRUCTURED-LOCATION;VALUE=URI;X-ADDRESS=323 Franklin Road\, Highlan
 ds\, NC 28741 ;X-APPLE-RADIUS=72;X-TITLE=Dave Drake Barn:35.05781;-83.2041
 79
END:VEVENT
END:VCALENDAR