BEGIN:VCALENDAR
VERSION:2.0
PRODID:Events Booking
BEGIN:VEVENT
UID:69e9b907bf412
SUMMARY:All Ages Pottery: Toad Houses
DESCRIPTION:&nbsp\;Make your own customized toad abode for all your amphibi
 ous friends. Student work will be available for pickup or shipping two to 
 three weeks after class.
 Suitable for ages 6 and up.&nbsp\;
LOCATION:323 Franklin Road\, Highlands\, NC 28741 
DTSTART:20260801T140000Z
DTEND:20260801T160000Z
DTSTAMP:20251217T223424Z
ORGANIZER;CN=The Bascom:MAILTO:info@thebascom.org
GEO:35.05781;-83.204179
X-APPLE-STRUCTURED-LOCATION;VALUE=URI;X-ADDRESS=323 Franklin Road\, Highlan
 ds\, NC 28741 ;X-APPLE-RADIUS=72;X-TITLE=The Studio Covered Terrace:35.057
 81;-83.204179
END:VEVENT
END:VCALENDAR