BEGIN:VCALENDAR
VERSION:2.0
PRODID:Events Booking
BEGIN:VEVENT
UID:69e9a90a97ee9
SUMMARY:1 Day Leather Crafting Workshop with Tom Slavicek
DESCRIPTION:This hands-on workshop introduces the fundamentals of leatherwo
 rking in a creative\, supportive environment. Participants may choose to c
 reate a leather shoulder bag or select from a variety of functional projec
 ts while learning cutting\, stitching\, and basic tool techniques. All mat
 erials\, tools\, and instruction are provided\, and no prior experience is
  required.
LOCATION:323 Franklin Road\, Highlands\, NC 28741
DTSTART:20260425T140000Z
DTEND:20260425T200000Z
DTSTAMP:20251205T005434Z
ORGANIZER;CN=The Bascom:MAILTO:info@thebascom.org
GEO:35.05781;-83.204179
X-APPLE-STRUCTURED-LOCATION;VALUE=URI;X-ADDRESS=323 Franklin Road\, Highlan
 ds\, NC 28741;X-APPLE-RADIUS=72;X-TITLE=The Bascom: Adult Studio B (Trail 
 Level):35.05781;-83.204179
END:VEVENT
END:VCALENDAR